BEGIN:VCALENDAR
VERSION:2.0
PRODID:-//TYPO3/NONSGML Calendarize//EN


BEGIN:VEVENT
UID:calendarize-aleksandras-novoselofas-vieslekcija-kolektivas-drosibas-svarigakos-aspekti
DTSTAMP:20260424T131129Z

DTSTART:20260430T093000Z
DTEND:20260430T110000Z
    
SUMMARY:Aleksandras Novoselovas vieslekcija "Kolektīvās drošības svarīgākos aspekti"
DESCRIPTION:Parīzes II (Panthéon-Assas) universitātes Tūkidida centra pētnieces Dr. Aleksandras Novoselofas (Alexandra Novosselof ) vieslekcija ir organizēta ar Francijas institūta Latvijā atbalstu un notiks 2026. gada 30. aprīlī plkst. 12.30-14.00 LU ESZF Aspazijas bulvārī 5\, 324. auditorijā. Aicināti visi interesenti\, iepriekš piesakot savu dalību!\nVieslekcijā pētniece Novoselofa pievērsīsies ne tikai svarīgākajiem kolektīvās drošības izaicinājumiem\, bet arī miera operāciju evolūcijai un mūsdienu starptautiskās drošības arhitektūras transformācijai.\nKopš doktora grāda politikas zinātnē iegūšanas Parīzes II Universitātē Aleksandras Novoselofas pētnieciskā darbība ir cieši saistīta ar ANO miera uzturēšanas un Drošības padomes jautājumiem dažādos pētniecības institūtos\, tostarp Norvēģijas Starptautisko attiecību institūtā (NUPI) un EPON Oslo\, Globālās pārvaldības institūtā Briselē\, kā arī Frankofonā miera operāciju tīklā Monreālā.\nKopš 2007. gada viņa specializējas arī robežu un separācijas sienu izpētē. Viņa ir arī fotogrāfe\, kuru interesē pēckonflikta situācijas un vietas.\nAleksandra Novoselofa ir vairāk nekā simts publikāciju autore - par aktuāliem ANO un starptautiskās drošības jautājumiem (franču un angļu valodā). 
X-ALT-DESC;FMTTYPE=text/html:<p class="text-justify">Parīzes II (<i>Panthéon-Assas</i>) universitātes Tūkidida centra pētnieces Dr. Aleksandras Novoselofas (<i>Alexandra Novosselof</i> ) vieslekcija ir&nbsp\;organizēta ar Francijas institūta Latvijā atbalstu un notiks 2026. gada 30. aprīlī plkst. 12.30-14.00 LU ESZF Aspazijas bulvārī 5\, 324. auditorijā. Aicināti visi interesenti\, <a href="https://forms.office.com/e/vKSf6QZier" target="_blank" rel="noreferrer"><strong>iepriekš piesakot savu dalību</strong></a>!</p>\n<p class="text-justify">Vieslekcijā pētniece Novoselofa pievērsīsies ne tikai svarīgākajiem kolektīvās drošības izaicinājumiem\,<strong>&nbsp\;</strong>bet arī<strong>&nbsp\;</strong>miera operāciju evolūcijai un mūsdienu starptautiskās drošības arhitektūras transformācijai.</p>\n<p class="text-justify">Kopš doktora grāda politikas zinātnē iegūšanas Parīzes II&nbsp\;Universitātē Aleksandras Novoselofas pētnieciskā darbība ir&nbsp\;cieši saistīta&nbsp\;ar ANO miera uzturēšanas un Drošības padomes jautājumiem dažādos pētniecības institūtos\, tostarp Norvēģijas Starptautisko attiecību institūtā (NUPI) un EPON Oslo\, Globālās pārvaldības institūtā Briselē\, kā arī Frankofonā miera operāciju tīklā Monreālā.</p>\n<p class="text-justify">Kopš 2007. gada viņa specializējas arī robežu un separācijas sienu izpētē. Viņa ir arī fotogrāfe\, kuru interesē pēckonflikta situācijas un vietas.</p>\n<p class="text-justify">Aleksandra Novoselofa ir vairāk nekā simts publikāciju autore - par aktuāliem ANO un starptautiskās drošības jautājumiem (franču un angļu valodā).&nbsp\;</p>
LOCATION:Aspazijas bulv. 5\, 324. auditorija
END:VEVENT

END:VCALENDAR